BEGIN:VCALENDAR
VERSION:2.0
PRODID:-//heidelberg-hilft-ukraine - ECPv6.6.0//NONSGML v1.0//EN
CALSCALE:GREGORIAN
METHOD:PUBLISH
X-ORIGINAL-URL:https://heidelberg-hilft-ukraine.de
X-WR-CALDESC:Події за heidelberg-hilft-ukraine
REFRESH-INTERVAL;VALUE=DURATION:PT1H
X-Robots-Tag:noindex
X-PUBLISHED-TTL:PT1H
BEGIN:VTIMEZONE
TZID:Europe/Berlin
BEGIN:DAYLIGHT
TZOFFSETFROM:+0100
TZOFFSETTO:+0200
TZNAME:CEST
DTSTART:20260329T010000
END:DAYLIGHT
BEGIN:STANDARD
TZOFFSETFROM:+0200
TZOFFSETTO:+0100
TZNAME:CET
DTSTART:20261025T010000
END:STANDARD
END:VTIMEZONE
BEGIN:VEVENT
DTSTART;VALUE=DATE:20260211
DTEND;VALUE=DATE:20261201
DTSTAMP:20260421T130344
CREATED:20260211T094808Z
LAST-MODIFIED:20260211T101124Z
UID:42543-1770768000-1796083199@heidelberg-hilft-ukraine.de
SUMMARY:Розклад блошиних ринків (Flohmärkte) та тематичних ринків у Хайдельберзі та Маннхаймі. 2026
DESCRIPTION:‼️ Оновлюється у міру надходження інформації (оновлено 11.02.2026) ‼️ \n\nХайдельберг\, Messplatz\n📍 Messplatz Heidelberg\, Kirchheimer Weg 69\, Heidelberg\, 69124 (map) \n🕐 з 8:00 до 14:00 \n▫️ Організатор: https://www.heidelberg.de/hd/HD/Leben/Flohmaerkte.html \n🗓 Дати заходів: \n\n\n\n🟢21. März 2026\n🟢04. April 2026\n🟢18. April 2026\n🟢02. Mai 2026\n🟢30. Mai 2026\n🟢20. Juni 2026\n🟢11. Juli 2026\n🟢25. Juli 2026\n🟢29. August 2026\n🟢26. September 2026\n🟢10. Oktober 2026\n🟢24. Oktober 2026\n\n\n\n  \nХайдельберг\, Kinderflohmarktdatenbank\n🗓 Дати заходів за посиланням: \n\n\n\n🟢 https://www.familie-heidelberg.de/familien/kinderflohmarkt/\n🟢 https://kinderflohmarkt.com/de/heidelberg/ \n🟢 https://kinderflohmarkt.com/de/mannheim/\n🟢 https://www.kinderbasar-online.de/Kinderbasar/Termine/Liste/l-Heidelberg/r-50\n🚫 дат ще немає\, але ринок хороший\, можна відстежувати за посиланням\, Karlstorbahnhof\, https://www.karlstorbahnhof.de/search.php?s=flohmarkt\n🟢ще можна пошукати за індексом вашого міста на сайті https://www.marktcom.de/\n\n\n\n  \nХайдельберг\, Wochenmärkte\n🗓 Дати заходів за посиланням: \n\n\n\n🟢 https://www.heidelberg.de/hd/HD/Leben/Wochenmaerkte.html\n\n\n\n  \nХайдельберг\, Pfennigbasar Heidelberg 2026\nЦього року ярмарок товарів за зниженими цінами DAFC Heidelberg e.V. пройде в Еммертсгрунді. І все продається за невеликі гроші! \n📍 Forum 1\, 69126 Heidelberg \n▫️Організатор: https://www.gawc.de/de/programm/pfennigbasar.html \n🗓 Дати заходів: \n\n\n\n🟢26-28. Februar 2026\n\n\n\n  \nХайдельберг\, Манхайм\, Mädels Flohrmarkt. Ринок для жінок!\n▫️ Організаторы: \n\nhttps://www.flohmarktine-frauenflohmarkt.de/\nhttps://www.frauenflohmarkt-mannheim.de/\n\n🎫вхід 4€\, діти до 14 років безкоштовно \n🗓 Дати заходів: \n\n\n\n🟢13.02.2026\, Mannheim https://www.flohmarktine-frauenflohmarkt.de/13-02-26-m%C3%A4dchenflohmarkt-mannheim/\n🟢21.02.2026\, Sinsheim https://www.flohmarktine-frauenflohmarkt.de/21-02-26-m%C3%A4dchenflohmarkt-sinsheim/\n🟢28.02.2026\, Ludwigshafen https://www.flohmarktine-frauenflohmarkt.de/28-02-26-m%C3%A4dchenflohmarkt-ludwigshafen/\n🟢07.03.2026\, Heidelberg https://www.flohmarktine-frauenflohmarkt.de/07-03-heidelberg-maedchenflohmarkt/\n🟢07.03.2026\, Mannheim Ladieslike Mannheim – Frauenflohmarkt\n🟢14.03.2026\, Mannheim https://www.flohmarktine-frauenflohmarkt.de/14-03-mannheim-maedchenflohmarkt/\n🟢11.04.2026\, Mannheim Ladieslike Mannheim – Frauenflohmarkt\n🟢 дат ще немає\, Heidelberg Mädelsflohmarkt https://kirchheim-bewegt.de/events/maedelsflohmarkt-399/\n\n\n\n  \nХайдельберг\, Hallenflohmarkt\n📍 Halle02\, Zollhofgarten 2\, 69115 Heidelberg (map) \n▫️ Організатор: https://www.facebook.com/hallenflohmarkt.heidelberg\, https://www.halle02.de/programm/ \n🗓 Дати заходів: \n\n\n\n🚫 дат ще немає\n\n\n\n\n\n\n  \nХайдельберг\, Designfestival\n📍 Ladenburg\, Schriesheimer Str. 101\, 68526 Ladenburg (map) \n▫️ Організатор: https://www.designfestival.de/ \n🗓 Дати заходів: \n\n\n\n🟢 28.02 – 01.03.2026\, https://www.designfestival.de/event-details/designfestival-hd-ss-2026\n\n\n\n  \nШветцинген\, Designfestival\n▫️ Організатор: https://www.handmadelove.de/handmademarkt-schwetzingen/ \n🗓 Дати заходів: \n\n\n\n🟢14.11 – 15.11.2026\, 11:00 – 18:00\, 📍Schloss Schwetzingen\n\n\n\n  \nХайдельберг\, Outdoor-Flohmarkt\nРозпродаж одягу та спец речей для походів\, подорожей\, активних видів відпочинку. \n📍 Kurfürsten-Anlage 62\, 69115 Bergheim-Ost. Навпаки Hauptbahnhof. (map) \n▫️ Організатор: https://www.backpacker-stores.de/blog \n🗓 Дати заходів: \n\n\n\n🟢21.03.2026\n🟢8.05-9.05.2026\n🟢11.10.2026\n🟢6.11-7.11.2026\n\n\n\n  \nХайдельберг\, Манхайм\, Stoffmarkt Holland\nВеликий ярмарок швейних товарів. \n📍Messplatz Heidelberg\, Kirchheimer Weg 69\, Heidelberg\, 69124 (map) \n📍Marktplatz G1\, Mannheim\, 68159 \n📍67063 Erzbergerstr. 89\, Parkplatz Friedrich-Ebert-Halle\, Ludwigshafen \n▫️ Організатор: https://www.stoffmarktholland.de/termine/\n🗓 Дати заходів: \n\n\n\n🟢21.03.2026\, 10:00 – 17:00 (Ludwigshafen)\n🟢17.05.2026\, 10:00 – 17:00 (Mannheim)\n\n\n\n  \nМанхайм\, Hofflohmärkte\nРинки у дворах мешканців. Дати можуть змінюватись\, перевіряйте на сайті. \n🗓 Дати заходів: https://www.hofflohmaerkte.de/pages/hofflohmarkte-mannheim \n\n\n\n🟢Sa. 13. Juni 2026 · 10 – 16 Uhr · Gartenstadt\n🟢Sa. 20. Juni 2026 · 10 – 16 Uhr · Käfertal\n🟢Sa. 27. Juni 2026 · 10 – 16 Uhr · Feudenheim\n🟢Sa. 4. Juli 2026 · 10 – 16 Uhr · Neckarau\n🟢Sa. 11. Juli 2026 · 10 – 16 Uhr · Lindenhof\n\n\n\n\nМанхайм\, Mannheimer Krempelmarkt\nНайбільший блошиний ринок регіону. \n📍 Neuen Messplatz\, Mannheim\, 68259  (map) \n▫️ Організатор: https://www.mannheimer-krempelmarkt.de/ \n🗓 Дати заходів: \n\n\n\n🟢28.02.2026\n🟢11.04.2026\n🟢23.05.2026\n🟢20.06.2026\n🟢12.09.2026\n🟢24.10.2026\n🟢21.11.2026\n\n\n\n  \nМанхайм\, Блошиний ринок щосуботи на парковці АВВ\n📍 Dudenstraße 6\, 68167 Mannheim (map) \n  \nМанхайм\, Kunsthandwerkermarkt у рамках міського свята\n📍 Mannheim P5 (map) \n▫️ Організатор: https://mannheimer-stadtfest.de/ \n🗓 Дати заходів: \n\n🟢29.05. – 31.05.2026\n\n  \nМанхайм\, Блошиний ринок/Дитячий ринок RNZ-Parkhaus\n📍Rhein-Neckar-Zentrum Viernheim\, Robert-Schuman-Str. 8a\, 68519 Viernheim \n▫️ Організатор: https://www.rhein-neckar-zentrum-viernheim.de/events/floh-und-troedelmarkt-termine-2026-e33732/ \n▫️ Організатор (дитячий): https://www.rhein-neckar-zentrum-viernheim.de/events/kinder-flohmarkt-e35877/ \n🗓 Дати заходів: \n\n\n\n🟢22.02.2026\n🟢08.03.2026 (дитячий)\n🟢22.03.2026\n🟢14.06.2026 (дитячий)\n🟢04.10.2026 (дитячий)\nдати ще будуть додаватися\n\n\n\n  \nМанхайм\, Антикварний ринок Nostalgia Antikmarkt\n📍Rhein-Neckar-Zentrum Viernheim\, Robert-Schuman-Str. 8a\, 68519 Viernheim \n▫️ Організатор: https://retro-vintage-antikmarkt.de/antikmarkt-viernheim/ \n🗓 Дати заходів: \n\n\n\n🟢08. Februar 2026\n🟢12. April 2026\n🟢06. September 2026\n🟢01. November 2026\n\n\n\n  \nМанхайм\, SPINELLI Flohmarkt\n📍Chisinauer Platz\, Mannheim \n▫️ Організатор: https://spinelli-mannheim.com/termine/ \n🗓 Дати заходів: \n\n\n\n🚫дат ще немає\n\n\n\n  \nЛюдвигсхафен\, Der klassische Flohmarkt\n📍Kulturzentrum dasHaus\, Bahnhofstr. 30\, 67059 Ludwigshafen am Rhein \n▫️ Організатор: https://www.dashaus-lu.de/programm \n🗓 Дати заходів: \n\n🟢07.März 2026\, 09:00 bis 13:00 Uhr https://www.dashaus-lu.de/programm/veranstaltung/07-03-2026_0900/der-klassische-flohmarkt-2026-2\n🟢11. April\n🟢2. Mai\n🟢6. Juni\n🟢5. September\n🟢3. Oktober\n🟢14. November\n🟢5. Dezember
URL:https://heidelberg-hilft-ukraine.de/event/flohmarkte2026/
ATTACH;FMTTYPE=image/jpeg:https://heidelberg-hilft-ukraine.de/wp-content/uploads/2024/01/Markt2.jpg
END:VEVENT
BEGIN:VEVENT
DTSTART;TZID=Europe/Berlin:20260425T193000
DTEND;TZID=Europe/Berlin:20260425T210000
DTSTAMP:20260421T130344
CREATED:20260407T215107Z
LAST-MODIFIED:20260407T215107Z
UID:42645-1777145400-1777150800@heidelberg-hilft-ukraine.de
SUMMARY:Лекція Виступ німецькою мовою з українським вокалом та грою на бандурі. Im Namen der Freiheit!
DESCRIPTION:25.04 о 19:30 у Театрі Oliv (Мангайм)\nПроходить Лекція Виступ німецькою мовою з українським вокалом та грою на бандурі \nДля біженців та українців вхід 8 євро\, так само ви можете прийти якщо у вас є kulturpass(попередньо зателефонувавши в театр або написати Е-mail) \n+490621 8191477\nInfo@theateroliv.de \nIm Namen der Freiheit! (DEU/UKR)
URL:https://heidelberg-hilft-ukraine.de/event/oliv25042026/
ATTACH;FMTTYPE=image/png:https://heidelberg-hilft-ukraine.de/wp-content/uploads/2026/04/oliv.png
END:VEVENT
BEGIN:VEVENT
DTSTART;TZID=Europe/Berlin:20260426T110000
DTEND;TZID=Europe/Berlin:20260426T140000
DTSTAMP:20260421T130344
CREATED:20260408T105751Z
LAST-MODIFIED:20260408T105751Z
UID:42652-1777201200-1777212000@heidelberg-hilft-ukraine.de
SUMMARY:Jobcafe: Як маме знайти роботу
DESCRIPTION:Реєстрація обов’язкова: https://forms.gle/i7yUW58vQM6mkbmq7 
URL:https://heidelberg-hilft-ukraine.de/event/jobcafe26042026/
ATTACH;FMTTYPE=image/jpeg:https://heidelberg-hilft-ukraine.de/wp-content/uploads/2026/04/jobcafe26042026.jpg
END:VEVENT
BEGIN:VEVENT
DTSTART;TZID=Europe/Berlin:20260428T180000
DTEND;TZID=Europe/Berlin:20260428T193000
DTSTAMP:20260421T130344
CREATED:20260408T104624Z
LAST-MODIFIED:20260408T104720Z
UID:42649-1777399200-1777404600@heidelberg-hilft-ukraine.de
SUMMARY:Концерт народних артистів України Дмитра та Назарія Яремчуків
DESCRIPTION:🎶 Запрошуємо на благодійний концерт народних артистів України Дмитра та Назарія Яремчуків. \nУ рамках благодійного туру країнами Західної Європи артисти не тільки збирають кошти на захист України\, нагадують європейській спільноті про важливість боротьби за мир та незалежність\,\nа й об’єднують українців за кордоном\, даруючи музику\, що лікує і нагадує про дім. \n✨ У програмі:\n— улюблені українські пісні\n— нові авторські композиції\n— щирі емоції та тепла атмосфера єдності \n💛 28 квітня | 18:00\n📍 Український культурний центр (Gellertstraße 14\, Karlsruhe) \n🎟 Вхід вільний! Будемо вдячні за ваші пожертви для підтримки благодійного туру💙💛 \nПриходьте\, щоб відчути зв’язок з Батьківщиною і разом створити атмосферу\, де кожен — наче вдома.\nЗапрошуйте німецьких друзів!
URL:https://heidelberg-hilft-ukraine.de/event/konzert28042026/
ATTACH;FMTTYPE=image/jpeg:https://heidelberg-hilft-ukraine.de/wp-content/uploads/2026/04/konzert28042026.jpg
END:VEVENT
BEGIN:VEVENT
DTSTART;TZID=Europe/Berlin:20260501T170000
DTEND;TZID=Europe/Berlin:20260501T193000
DTSTAMP:20260421T130344
CREATED:20260418T184222Z
LAST-MODIFIED:20260418T184222Z
UID:42659-1777654800-1777663800@heidelberg-hilft-ukraine.de
SUMMARY:Благодійний концерт Сергія Асафатова у Мангаймі
DESCRIPTION:Запрошуємо вас на особливий музичний вечір у межах світового благодійного туру \nСергій Асафатов — український мультиінструменталіст\, суперфіналіст шоу «Голос країни» та номінант премії YUNA.\nВиконавець відомих хітів: «Море»\, «Заведу кота»\, «Дякую за світанки». \n✨ Це більше\, ніж концерт — це зустріч своїх. \n⸻ \n📅 1 травня 2026\n📍 Jugendhaus Vogelstang\nFreiberger Ring 6\, 68309 Mannheim \n🕔 Вхід: з 17:00 \n🎫 Квиток: 25 € \n⸻ \n💫 У програмі вечора:\n• Живий виступ Сергія Асафатова 🎸\n• Атмосфера єдності та підтримки 💛\n• Благодійний аукціон\n• Бар з напоями та легкі закуски 🍷🍴 \n⸻ \n🎯 Мета заходу:\nзбір коштів на підтримку Збройних Сил України \n⸻ \n📲 Попередній запис:\n+49 176 84200530 \n⸻ \n⚠️ Кількість місць обмежена
URL:https://heidelberg-hilft-ukraine.de/event/asafatov01052026/
LOCATION:Jugendhaus Mannheim\, Freiberger Ring 6\, Mannheim\, 68309\, Германия
ATTACH;FMTTYPE=image/jpeg:https://heidelberg-hilft-ukraine.de/wp-content/uploads/2026/04/asafatov.jpg
END:VEVENT
END:VCALENDAR